BEGIN:VCALENDAR
VERSION:2.0
PRODID:-//https://barringtonmunicipality.com//NONSGML kigkonsult.se iCalcre
 ator 2.29.29//
CALSCALE:GREGORIAN
METHOD:PUBLISH
UID:7e73dfb1-c418-4efb-8442-1faa5fbb8ff1
X-WR-CALNAME:JCal Pro Calendar
X-WR-CALDESC:Your online events calendar
X-WR-TIMEZONE:America/Halifax
BEGIN:VTIMEZONE
TZID:America/Halifax
BEGIN:STANDARD
TZNAME:AST
DTSTART:20251102T020000
TZOFFSETFROM:-0300
TZOFFSETTO:-0400
RDATE:20261101T020000
END:STANDARD
BEGIN:DAYLIGHT
TZNAME:ADT
DTSTART:20260308T020000
TZOFFSETFROM:-0400
TZOFFSETTO:-0300
RDATE:20270314T020000
END:DAYLIGHT
END:VTIMEZONE
BEGIN:VEVENT
UID:20230601T190000ADT-9832hvp7Ip@https://www.barringtonmunicipality.com/
DTSTAMP:20260421T103120Z
CATEGORIES:Other Municipal Meetings
DESCRIPTION:<h2>AGENDA<br>Planning Advisory Committee</h2>\n<h2>June 1\, 20
 23<br>7:00 p.m.</h2>\n<p>&nbsp\;</p>\n<p>1. Additions to Agenda.</p>\n<p>2
 . Approval of Agenda.</p>\n<p>3. Approval of <a href='index.php?option=com
 _docman&amp\;view=document&amp\;alias=5118-02-23-2023-planning-advisory-co
 mmittee&amp\;category_slug=2023-planning-advisory-committee-minutes&amp\;I
 temid=246' target='_blank' class='doclink'>minutes of the last meeting hel
 d February 23\, 2023</a>.</p>\n<p>4. Development Agreement –&nbsp\; <a hre
 f='index.php?option=com_docman&amp\;view=document&amp\;alias=5217-east-and
 -west-boats-limited&amp\;category_slug=municipal-documents&amp\;Itemid=246
 ' target='_blank' class='doclink docman_track_download k-ui-namespace' dat
 a-title='East and West Boats Limited' data-id='5217' type='application/pdf
 ' data-processed='data-processed'>    
<span class='k-icon-document-pdf  ' 
 aria-hidden='true'></span>
<span class='k-visually-hidden'>pdf</span>
East a
 nd West Boats Limited<span>(<!--
-->4.45 MB<!--
-->)</span>
</a></p>\n<p>5. A
 djournment.</p>
DTSTART;TZID=America/Halifax:20230601T190000
DTEND;TZID=America/Halifax:20230601T190000
SUMMARY:Planning Advisory Committee CANCELLED
URL:https://barringtonmunicipality.com/197-other-municipal-meetings/2232-pl
 anning-advisory-committee
X-ALT-DESC;FMTTYPE=TEXT/HTML:<h2>AGENDA<br>Planning Advisory Committee</h2>
 \n<h2>June 1\, 2023<br>7:00 p.m.</h2>\n<p>&nbsp\;</p>\n<p>1. Additions to 
 Agenda.</p>\n<p>2. Approval of Agenda.</p>\n<p>3. Approval of <a href='ind
 ex.php?option=com_docman&amp\;view=document&amp\;alias=5118-02-23-2023-pla
 nning-advisory-committee&amp\;category_slug=2023-planning-advisory-committ
 ee-minutes&amp\;Itemid=246' target='_blank' class='doclink'>minutes of the
  last meeting held February 23\, 2023</a>.</p>\n<p>4. Development Agreemen
 t –&nbsp\; <a href='index.php?option=com_docman&amp\;view=document&amp\;al
 ias=5217-east-and-west-boats-limited&amp\;category_slug=municipal-document
 s&amp\;Itemid=246' target='_blank' class='doclink docman_track_download k-
 ui-namespace' data-title='East and West Boats Limited' data-id='5217' type
 ='application/pdf' data-processed='data-processed'>    
<span class='k-icon
 -document-pdf  ' aria-hidden='true'></span>
<span class='k-visually-hidden'
 >pdf</span>
East and West Boats Limited<span>(<!--
-->4.45 MB<!--
-->)</span>
 
</a></p>\n<p>5. Adjournment.</p>
END:VEVENT
END:VCALENDAR
