BEGIN:VCALENDAR
VERSION:2.0
PRODID:-//https://barringtonmunicipality.com//NONSGML kigkonsult.se iCalcre
 ator 2.29.29//
CALSCALE:GREGORIAN
METHOD:PUBLISH
UID:457686c2-5a4d-4b60-b248-58946e4885b5
X-WR-CALNAME:JCal Pro Calendar
X-WR-CALDESC:Your online events calendar
X-WR-TIMEZONE:America/Halifax
BEGIN:VTIMEZONE
TZID:America/Halifax
BEGIN:STANDARD
TZNAME:AST
DTSTART:20251102T020000
TZOFFSETFROM:-0300
TZOFFSETTO:-0400
RDATE:20261101T020000
END:STANDARD
BEGIN:DAYLIGHT
TZNAME:ADT
DTSTART:20260308T020000
TZOFFSETFROM:-0400
TZOFFSETTO:-0300
RDATE:20270314T020000
END:DAYLIGHT
END:VTIMEZONE
BEGIN:VEVENT
UID:20200210T190000AST-4569u2eSbV@https://www.barringtonmunicipality.com/
DTSTAMP:20260421T152319Z
CATEGORIES:Committee of the Whole Meetings
DESCRIPTION:<h3>AGENDA<br />COMMITTEE OF THE WHOLE<br />Conference Room</h3
 >\n<p>February 10\, 2020<br />7:00 p.m.</p>\n<p>&nbsp\;</p>\n<p>1. Additio
 ns to the Agenda.</p>\n<p>2. Approval of Agenda.</p>\n<p>3. Approval of mi
 nutes of the Committee of the Whole Council Meeting held <a class='doclink
  docman_track_download k-ui-namespace' href='index.php?option=com_docman&a
 mp\;view=document&amp\;alias=3464-january-20-2020-committee-of-the-whole-c
 ouncil&amp\;category_slug=2020-committee-of-the-whole-agendas&amp\;Itemid=
 246' target='_blank' data-title='January 20\, 2020 Committee of the Whole 
 Council' data-id='3464' type='application/pdf' data-processed='data-proces
 sed'>    
<span class='k-icon-document-pdf  ' aria-hidden='true'></span>
<sp
 an class='k-visually-hidden'>pdf</span>
January 20\, 2020<span>(<!--
-->62 K
 B<!--
-->)</span>
</a> and the Special Meeting held <a class='doclink docman
 _track_download k-ui-namespace' href='index.php?option=com_docman&amp\;vie
 w=document&amp\;alias=3472-january-30-2020-spec-comm-of-the-whole-council-
 1&amp\;category_slug=2020-committee-of-the-whole-agendas&amp\;Itemid=246' 
 target='_blank' data-title='January 30\, 2020 Spec Comm of the Whole Counc
 il' data-id='3472' type='application/pdf' data-processed='data-processed'>
     
<span class='k-icon-document-pdf  ' aria-hidden='true'></span>
<span cl
 ass='k-visually-hidden'>pdf</span>
January 30\, 2020<span>(<!--
-->37 KB<!--
 
-->)</span>
</a>.</p>\n<p>4. Kirk Reede\, Maintenance Supervisor TIR Shelbu
 rne. (7:00 - 7:30 p.m.)</p>\n<p>5. Inquiry of Acquisition of Property at S
 herose Island - Shelley and Dwaine d’Eon.</p>\n<p>6. <a class='doclink doc
 man_track_download k-ui-namespace' href='index.php?option=com_docman&amp\;
 view=document&amp\;alias=3473-world-championships-of-double-bitted-axe-thr
 owing-presentation&amp\;category_slug=2020-committee-of-the-whole-agendas&
 amp\;Itemid=246' target='_blank' data-title='World Championships of Double
  Bitted Axe Throwing Presentation' data-id='3473' type='application/pdf' d
 ata-processed='data-processed'>    
<span class='k-icon-document-pdf  ' ari
 a-hidden='true'></span>
<span class='k-visually-hidden'>pdf</span>
RFP - 202
 1 World Championships of Double-Bitted Axe Throwing<span>(<!--
-->6.31 MB<!
 --
-->)</span>
</a>.</p>\n<p>7. Policies and By-laws:&nbsp\; &nbsp\; &nbsp\;
 - <a class='doclink docman_track_download k-ui-namespace' href='index.php?
 option=com_docman&amp\;view=document&amp\;alias=3466-policy-59-amendments-
 accessibility-advisory-committee&amp\;category_slug=2020-committee-of-the-
 whole-agendas&amp\;Itemid=246' target='_blank' data-title='Policy 59 Amend
 ments Accessibility Advisory Committee' data-id='3466' type='application/p
 df' data-processed='data-processed'>    
<span class='k-icon-document-pdf  
 ' aria-hidden='true'></span>
<span class='k-visually-hidden'>pdf</span>
Prop
 osed amendments to Policy 59 Re: Accessibility Advisory Committee.<span>(<
 !--
-->85 KB<!--
-->)</span>
</a><br />&nbsp\; &nbsp\; &nbsp\; &nbsp\; &nbsp\
 ; &nbsp\; &nbsp\; &nbsp\; &nbsp\; &nbsp\; &nbsp\; &nbsp\; &nbsp\; &nbsp\; 
 &nbsp\; &nbsp\; &nbsp\; &nbsp\; &nbsp\; &nbsp\; &nbsp\; &nbsp\;- <a class=
 'doclink docman_track_download k-ui-namespace' href='index.php?option=com_
 docman&amp\;view=document&amp\;alias=3469-snow-and-ice-clearing-and-mainte
 nance-policy&amp\;category_slug=2020-committee-of-the-whole-agendas&amp\;I
 temid=246' target='_blank' data-title='Snow and Ice Clearing and Maintenan
 ce Policy' data-id='3469' type='application/pdf' data-processed='data-proc
 essed'>    
<span class='k-icon-document-pdf  ' aria-hidden='true'></span>
<
 span class='k-visually-hidden'>pdf</span>
Draft Snow and Ice Clearing and M
 aintenance Policy.<span>(<!--
-->56 KB<!--
-->)</span>
</a><br />&nbsp\; &nbs
 p\; &nbsp\; &nbsp\; &nbsp\; &nbsp\; &nbsp\; &nbsp\; &nbsp\; &nbsp\; &nbsp\
 ; &nbsp\; &nbsp\; &nbsp\; &nbsp\; &nbsp\; &nbsp\; &nbsp\; &nbsp\; &nbsp\; 
 &nbsp\; &nbsp\;- <a class='doclink docman_track_download k-ui-namespace' h
 ref='index.php?option=com_docman&amp\;view=document&amp\;alias=3468-snow-a
 nd-ice-clearing-and-maintenance-by-law&amp\;category_slug=2020-committee-o
 f-the-whole-agendas&amp\;Itemid=246' target='_blank' data-title='Snow and 
 Ice Clearing and Maintenance By law' data-id='3468' type='application/pdf'
  data-processed='data-processed'>    
<span class='k-icon-document-pdf  ' a
 ria-hidden='true'></span>
<span class='k-visually-hidden'>pdf</span>
Draft S
 now and Ice Clearing and Maintenance By-law.<span>(<!--
-->57 KB<!--
-->)</s
 pan>
</a><br /> <br />8. <a class='doclink docman_track_download k-ui-names
 pace' href='index.php?option=com_docman&amp\;view=document&amp\;alias=3470
 -tender-evaluation-report-modb2001&amp\;category_slug=2020-committee-of-th
 e-whole-agendas&amp\;Itemid=246' target='_blank' data-title='Tender Evalua
 tion Report MODB2001' data-id='3470' type='application/pdf' data-processed
 ='data-processed'>    
<span class='k-icon-document-pdf  ' aria-hidden='tru
 e'></span>
<span class='k-visually-hidden'>pdf</span>
Tender MODB2001 for 20
 05 Dodge RAM ¾ ton 4X4 Truck<span>(<!--
-->131 KB<!--
-->)</span>
</a>.</p>\n
 <p>9. <a class='doclink docman_track_download k-ui-namespace' href='index.
 php?option=com_docman&amp\;view=document&amp\;alias=3467-roseway-hosp-char
 itable-foundation-letter&amp\;category_slug=2020-committee-of-the-whole-ag
 endas&amp\;Itemid=246' target='_blank' data-title='Roseway Hosp Charitable
  Foundation Letter' data-id='3467' type='application/pdf' data-processed='
 data-processed'>    
<span class='k-icon-document-pdf  ' aria-hidden='true'
 ></span>
<span class='k-visually-hidden'>pdf</span>
 Funding Request from Ro
 seway Hospital Charitable Foundation.<span>(<!--
-->220 KB<!--
-->)</span>
</
 a></p>\n<p>10. <a class='doclink docman_track_download k-ui-namespace' hre
 f='index.php?option=com_docman&amp\;view=document&amp\;alias=3474-bay-side
 -home-appointment&amp\;category_slug=2020-committee-of-the-whole-agendas&a
 mp\;Itemid=246' target='_blank' data-title='Bay Side Home Appointment' dat
 a-id='3474' type='application/pdf' data-processed='data-processed'>    
<sp
 an class='k-icon-document-pdf  ' aria-hidden='true'></span>
<span class='k-
 visually-hidden'>pdf</span>
Appointment to Bay Side Home Board of Directors
 .<span>(<!--
-->147 KB<!--
-->)</span>
</a></p>\n<p>11. Adjournment.<br /> </
 p>
DTSTART;TZID=America/Halifax:20200210T190000
DTEND;TZID=America/Halifax:20200210T190000
SUMMARY:Committee of the Whole Council Meeting
URL:https://barringtonmunicipality.com/193-committee-of-the-whole-meetings/
 125-committee-of-the-whole-council-meeting
X-ALT-DESC;FMTTYPE=TEXT/HTML:<h3>AGENDA<br />COMMITTEE OF THE WHOLE<br />Co
 nference Room</h3>\n<p>February 10\, 2020<br />7:00 p.m.</p>\n<p>&nbsp\;</
 p>\n<p>1. Additions to the Agenda.</p>\n<p>2. Approval of Agenda.</p>\n<p>
 3. Approval of minutes of the Committee of the Whole Council Meeting held 
 <a class='doclink docman_track_download k-ui-namespace' href='index.php?op
 tion=com_docman&amp\;view=document&amp\;alias=3464-january-20-2020-committ
 ee-of-the-whole-council&amp\;category_slug=2020-committee-of-the-whole-age
 ndas&amp\;Itemid=246' target='_blank' data-title='January 20\, 2020 Commit
 tee of the Whole Council' data-id='3464' type='application/pdf' data-proce
 ssed='data-processed'>    
<span class='k-icon-document-pdf  ' aria-hidden=
 'true'></span>
<span class='k-visually-hidden'>pdf</span>
January 20\, 2020<
 span>(<!--
-->62 KB<!--
-->)</span>
</a> and the Special Meeting held <a clas
 s='doclink docman_track_download k-ui-namespace' href='index.php?option=co
 m_docman&amp\;view=document&amp\;alias=3472-january-30-2020-spec-comm-of-t
 he-whole-council-1&amp\;category_slug=2020-committee-of-the-whole-agendas&
 amp\;Itemid=246' target='_blank' data-title='January 30\, 2020 Spec Comm o
 f the Whole Council' data-id='3472' type='application/pdf' data-processed=
 'data-processed'>    
<span class='k-icon-document-pdf  ' aria-hidden='true
 '></span>
<span class='k-visually-hidden'>pdf</span>
January 30\, 2020<span>
 (<!--
-->37 KB<!--
-->)</span>
</a>.</p>\n<p>4. Kirk Reede\, Maintenance Supe
 rvisor TIR Shelburne. (7:00 - 7:30 p.m.)</p>\n<p>5. Inquiry of Acquisition
  of Property at Sherose Island - Shelley and Dwaine d’Eon.</p>\n<p>6. <a c
 lass='doclink docman_track_download k-ui-namespace' href='index.php?option
 =com_docman&amp\;view=document&amp\;alias=3473-world-championships-of-doub
 le-bitted-axe-throwing-presentation&amp\;category_slug=2020-committee-of-t
 he-whole-agendas&amp\;Itemid=246' target='_blank' data-title='World Champi
 onships of Double Bitted Axe Throwing Presentation' data-id='3473' type='a
 pplication/pdf' data-processed='data-processed'>    
<span class='k-icon-do
 cument-pdf  ' aria-hidden='true'></span>
<span class='k-visually-hidden'>pd
 f</span>
RFP - 2021 World Championships of Double-Bitted Axe Throwing<span>
 (<!--
-->6.31 MB<!--
-->)</span>
</a>.</p>\n<p>7. Policies and By-laws:&nbsp\
 ; &nbsp\; &nbsp\;- <a class='doclink docman_track_download k-ui-namespace'
  href='index.php?option=com_docman&amp\;view=document&amp\;alias=3466-poli
 cy-59-amendments-accessibility-advisory-committee&amp\;category_slug=2020-
 committee-of-the-whole-agendas&amp\;Itemid=246' target='_blank' data-title
 ='Policy 59 Amendments Accessibility Advisory Committee' data-id='3466' ty
 pe='application/pdf' data-processed='data-processed'>    
<span class='k-ic
 on-document-pdf  ' aria-hidden='true'></span>
<span class='k-visually-hidde
 n'>pdf</span>
Proposed amendments to Policy 59 Re: Accessibility Advisory C
 ommittee.<span>(<!--
-->85 KB<!--
-->)</span>
</a><br />&nbsp\; &nbsp\; &nbsp
 \; &nbsp\; &nbsp\; &nbsp\; &nbsp\; &nbsp\; &nbsp\; &nbsp\; &nbsp\; &nbsp\;
  &nbsp\; &nbsp\; &nbsp\; &nbsp\; &nbsp\; &nbsp\; &nbsp\; &nbsp\; &nbsp\; &
 nbsp\;- <a class='doclink docman_track_download k-ui-namespace' href='inde
 x.php?option=com_docman&amp\;view=document&amp\;alias=3469-snow-and-ice-cl
 earing-and-maintenance-policy&amp\;category_slug=2020-committee-of-the-who
 le-agendas&amp\;Itemid=246' target='_blank' data-title='Snow and Ice Clear
 ing and Maintenance Policy' data-id='3469' type='application/pdf' data-pro
 cessed='data-processed'>    
<span class='k-icon-document-pdf  ' aria-hidde
 n='true'></span>
<span class='k-visually-hidden'>pdf</span>
Draft Snow and I
 ce Clearing and Maintenance Policy.<span>(<!--
-->56 KB<!--
-->)</span>
</a><
 br />&nbsp\; &nbsp\; &nbsp\; &nbsp\; &nbsp\; &nbsp\; &nbsp\; &nbsp\; &nbsp
 \; &nbsp\; &nbsp\; &nbsp\; &nbsp\; &nbsp\; &nbsp\; &nbsp\; &nbsp\; &nbsp\;
  &nbsp\; &nbsp\; &nbsp\; &nbsp\;- <a class='doclink docman_track_download 
 k-ui-namespace' href='index.php?option=com_docman&amp\;view=document&amp\;
 alias=3468-snow-and-ice-clearing-and-maintenance-by-law&amp\;category_slug
 =2020-committee-of-the-whole-agendas&amp\;Itemid=246' target='_blank' data
 -title='Snow and Ice Clearing and Maintenance By law' data-id='3468' type=
 'application/pdf' data-processed='data-processed'>    
<span class='k-icon-
 document-pdf  ' aria-hidden='true'></span>
<span class='k-visually-hidden'>
 pdf</span>
Draft Snow and Ice Clearing and Maintenance By-law.<span>(<!--
--
 >57 KB<!--
-->)</span>
</a><br /> <br />8. <a class='doclink docman_track_do
 wnload k-ui-namespace' href='index.php?option=com_docman&amp\;view=documen
 t&amp\;alias=3470-tender-evaluation-report-modb2001&amp\;category_slug=202
 0-committee-of-the-whole-agendas&amp\;Itemid=246' target='_blank' data-tit
 le='Tender Evaluation Report MODB2001' data-id='3470' type='application/pd
 f' data-processed='data-processed'>    
<span class='k-icon-document-pdf  '
  aria-hidden='true'></span>
<span class='k-visually-hidden'>pdf</span>
Tende
 r MODB2001 for 2005 Dodge RAM ¾ ton 4X4 Truck<span>(<!--
-->131 KB<!--
-->)<
 /span>
</a>.</p>\n<p>9. <a class='doclink docman_track_download k-ui-namesp
 ace' href='index.php?option=com_docman&amp\;view=document&amp\;alias=3467-
 roseway-hosp-charitable-foundation-letter&amp\;category_slug=2020-committe
 e-of-the-whole-agendas&amp\;Itemid=246' target='_blank' data-title='Rosewa
 y Hosp Charitable Foundation Letter' data-id='3467' type='application/pdf'
  data-processed='data-processed'>    
<span class='k-icon-document-pdf  ' a
 ria-hidden='true'></span>
<span class='k-visually-hidden'>pdf</span>
 Fundin
 g Request from Roseway Hospital Charitable Foundation.<span>(<!--
-->220 KB
 <!--
-->)</span>
</a></p>\n<p>10. <a class='doclink docman_track_download k-
 ui-namespace' href='index.php?option=com_docman&amp\;view=document&amp\;al
 ias=3474-bay-side-home-appointment&amp\;category_slug=2020-committee-of-th
 e-whole-agendas&amp\;Itemid=246' target='_blank' data-title='Bay Side Home
  Appointment' data-id='3474' type='application/pdf' data-processed='data-p
 rocessed'>    
<span class='k-icon-document-pdf  ' aria-hidden='true'></spa
 n>
<span class='k-visually-hidden'>pdf</span>
Appointment to Bay Side Home B
 oard of Directors.<span>(<!--
-->147 KB<!--
-->)</span>
</a></p>\n<p>11. Adjo
 urnment.<br /> </p>
END:VEVENT
BEGIN:VEVENT
UID:20191105T190000AST-3937D0mvo2@https://www.barringtonmunicipality.com/
DTSTAMP:20260421T152319Z
CATEGORIES:Recreation
DESCRIPTION:<p>for everyone\; individual play\; no teams</p>
DTSTART;TZID=America/Halifax:20191105T190000
DTEND;TZID=America/Halifax:20191105T220000
RRULE:FREQ=WEEKLY;UNTIL=20201124T040000Z;INTERVAL=1;BYDAY=TU
SUMMARY:Darts
URL:https://barringtonmunicipality.com/198-recreation/316-darts
X-ALT-DESC;FMTTYPE=TEXT/HTML:<p>for everyone\; individual play\; no teams</
 p>
END:VEVENT
BEGIN:VEVENT
UID:20200213T190000AST-6604x1Xpvx@https://www.barringtonmunicipality.com/
DTSTAMP:20260421T152319Z
CATEGORIES:Other Municipal Meetings
DTSTART;TZID=America/Halifax:20200213T190000
DTEND;TZID=America/Halifax:20200213T190000
SUMMARY:Dialysis Committee Meeting - CANCELLED
URL:https://barringtonmunicipality.com/197-other-municipal-meetings/457-dia
 lysis-committee-meeting
END:VEVENT
END:VCALENDAR
