BEGIN:VCALENDAR
VERSION:2.0
PRODID:-//https://barringtonmunicipality.com//NONSGML kigkonsult.se iCalcre
 ator 2.29.29//
CALSCALE:GREGORIAN
METHOD:PUBLISH
UID:060d5e8e-389c-4b93-9b42-abe3a1296d00
X-WR-CALNAME:JCal Pro Calendar
X-WR-CALDESC:Your online events calendar
X-WR-TIMEZONE:America/Halifax
BEGIN:VTIMEZONE
TZID:America/Halifax
BEGIN:STANDARD
TZNAME:AST
DTSTART:20251102T020000
TZOFFSETFROM:-0300
TZOFFSETTO:-0400
RDATE:20261101T020000
END:STANDARD
BEGIN:DAYLIGHT
TZNAME:ADT
DTSTART:20260308T020000
TZOFFSETFROM:-0400
TZOFFSETTO:-0300
RDATE:20270314T020000
END:DAYLIGHT
END:VTIMEZONE
BEGIN:VEVENT
UID:20200307T083000AST-3537SuwJ0O@https://barringtonmunicipality.com/
DTSTAMP:20260421T152320Z
CATEGORIES:Other Municipal Meetings
DESCRIPTION:<h3>AGENDA<br />SPECIAL BUDGET MEETING - CANCELLED<br />Confere
 nce Room</h3>\n<p>April 6\, 2020<br />5:00 p.m.</p>\n<p>&nbsp\;</p>\n<p>1.
  Additions to the Agenda.</p>\n<p>2. Approval of Agenda.</p>\n<p>3. Introd
 uction</p>\n<p>4. Revenues</p>\n<p style='padding-left: 30px\;'>a. Propert
 y Tax Trends and Rate <br />b. Tax Revenue</p>\n<p>5. Arena Rates</p>\n<p>
 6. Furniture Disposal Fees</p>\n<p>7. Reserves</p>\n<p>8. Adjournment.</p>
DTSTART;TZID=America/Halifax:20200406T170000
DTEND;TZID=America/Halifax:20200406T210000
SUMMARY:Special Budget Meeting - CANCELLED
URL:https://barringtonmunicipality.com/197-other-municipal-meetings/461-bud
 get-meeting
X-ALT-DESC;FMTTYPE=TEXT/HTML:<h3>AGENDA<br />SPECIAL BUDGET MEETING - CANCE
 LLED<br />Conference Room</h3>\n<p>April 6\, 2020<br />5:00 p.m.</p>\n<p>&
 nbsp\;</p>\n<p>1. Additions to the Agenda.</p>\n<p>2. Approval of Agenda.<
 /p>\n<p>3. Introduction</p>\n<p>4. Revenues</p>\n<p style='padding-left: 3
 0px\;'>a. Property Tax Trends and Rate <br />b. Tax Revenue</p>\n<p>5. Are
 na Rates</p>\n<p>6. Furniture Disposal Fees</p>\n<p>7. Reserves</p>\n<p>8.
  Adjournment.</p>
END:VEVENT
BEGIN:VEVENT
UID:20200305T190000AST-4618c4NH2f@https://barringtonmunicipality.com/
DTSTAMP:20260421T152320Z
CATEGORIES:Recreation
DESCRIPTION:<p>Pick up basketball at Barrington Municipal High School every
  Monday and Thursday 7-9pm. For more information contact Joel d'Entremont 
 902-637-2015 EXT 237.&nbsp\;</p>
DTSTART;TZID=America/Halifax:20200305T190000
DTEND;TZID=America/Halifax:20200305T210000
RRULE:FREQ=WEEKLY;UNTIL=20200624T030000Z;INTERVAL=1;BYDAY=MO,TH
SUMMARY:Pick Up Basketball
URL:https://barringtonmunicipality.com/198-recreation/466-pick-up-basketbal
 l
X-ALT-DESC;FMTTYPE=TEXT/HTML:<p>Pick up basketball at Barrington Municipal 
 High School every Monday and Thursday 7-9pm. For more information contact 
 Joel d'Entremont 902-637-2015 EXT 237.&nbsp\;</p>
END:VEVENT
END:VCALENDAR
