BEGIN:VCALENDAR
VERSION:2.0
PRODID:-//https://barringtonmunicipality.com//NONSGML kigkonsult.se iCalcre
 ator 2.29.29//
CALSCALE:GREGORIAN
METHOD:PUBLISH
UID:f343a0e8-f15c-4ad3-bd3c-e2d0ea065053
X-WR-CALNAME:JCal Pro Calendar
X-WR-CALDESC:Your online events calendar
X-WR-TIMEZONE:America/Halifax
BEGIN:VTIMEZONE
TZID:America/Halifax
BEGIN:STANDARD
TZNAME:AST
DTSTART:20251102T020000
TZOFFSETFROM:-0300
TZOFFSETTO:-0400
RDATE:20261101T020000
END:STANDARD
BEGIN:DAYLIGHT
TZNAME:ADT
DTSTART:20260308T020000
TZOFFSETFROM:-0400
TZOFFSETTO:-0300
RDATE:20270314T020000
END:DAYLIGHT
END:VTIMEZONE
BEGIN:VEVENT
UID:20190926T190000ADT-4180o5NDHf@http://barrington.mwvdev.info/
DTSTAMP:20260422T022748Z
CATEGORIES:Council Meetings
DESCRIPTION:<h3>AGENDA<br />BARRINGTON MUNICIPAL COUNCIL<br />SPECIAL MEETI
 NG</h3>\n<h3>September 26\, 2019<br /> <br />COUNCIL CHAMBERS\, ADMINISTRA
 TIVE CENTRE<br />BARRINGTON\, N.S.</h3>\n<h3>7:30 P.M.</h3>\n<p>&nbsp\;</p
 >\n<ol>\n<li>Additions to the Agenda</li>\n<li>Approval of the Agenda</li>
 \n<li>Approval of Audited Financial Statements</li>\n<li>Adjournment</li>
 \n</ol>\n<p>&nbsp\;</p>\n<p>&nbsp\;</p>\n<p>______________________________
 <br />Chris Frotten\, CAO</p>
DTSTART;TZID=America/Halifax:20190926T193000
DTEND;TZID=America/Halifax:20190926T193000
SUMMARY:Special Council Meeting
URL:https://barringtonmunicipality.com/194-council-meetings/86-special-coun
 cil-meeting
X-ALT-DESC;FMTTYPE=TEXT/HTML:<h3>AGENDA<br />BARRINGTON MUNICIPAL COUNCIL<b
 r />SPECIAL MEETING</h3>\n<h3>September 26\, 2019<br /> <br />COUNCIL CHAM
 BERS\, ADMINISTRATIVE CENTRE<br />BARRINGTON\, N.S.</h3>\n<h3>7:30 P.M.</h
 3>\n<p>&nbsp\;</p>\n<ol>\n<li>Additions to the Agenda</li>\n<li>Approval o
 f the Agenda</li>\n<li>Approval of Audited Financial Statements</li>\n<li>
 Adjournment</li>\n</ol>\n<p>&nbsp\;</p>\n<p>&nbsp\;</p>\n<p>______________
 ________________<br />Chris Frotten\, CAO</p>
END:VEVENT
END:VCALENDAR
