BEGIN:VCALENDAR
VERSION:2.0
PRODID:-//https://barringtonmunicipality.com//NONSGML kigkonsult.se iCalcre
 ator 2.29.29//
CALSCALE:GREGORIAN
METHOD:PUBLISH
UID:0fe56f31-c29a-46f4-9144-cd10e7234207
X-WR-CALNAME:JCal Pro Calendar
X-WR-CALDESC:Your online events calendar
X-WR-TIMEZONE:America/Halifax
BEGIN:VTIMEZONE
TZID:America/Halifax
BEGIN:STANDARD
TZNAME:AST
DTSTART:20251102T020000
TZOFFSETFROM:-0300
TZOFFSETTO:-0400
RDATE:20261101T020000
END:STANDARD
BEGIN:DAYLIGHT
TZNAME:ADT
DTSTART:20260308T020000
TZOFFSETFROM:-0400
TZOFFSETTO:-0300
RDATE:20270314T020000
END:DAYLIGHT
END:VTIMEZONE
BEGIN:VEVENT
UID:20200323T190000ADT-79464Zbh8n@https://www.barringtonmunicipality.com/
DTSTAMP:20260421T171137Z
CATEGORIES:Council Meetings
DTSTART;TZID=America/Halifax:20200323T190000
DTEND;TZID=America/Halifax:20200323T190000
SUMMARY:Council Meeting - Cancelled
URL:https://barringtonmunicipality.com/194-council-meetings/130-council-mee
 ting
END:VEVENT
END:VCALENDAR
