BEGIN:VCALENDAR
VERSION:2.0
PRODID:-//https://barringtonmunicipality.com//NONSGML kigkonsult.se iCalcre
 ator 2.29.29//
CALSCALE:GREGORIAN
METHOD:PUBLISH
UID:d694d481-70cb-4b8d-af9b-bb90df8c1f74
X-WR-CALNAME:JCal Pro Calendar
X-WR-CALDESC:Your online events calendar
X-WR-TIMEZONE:America/Halifax
BEGIN:VTIMEZONE
TZID:America/Halifax
BEGIN:STANDARD
TZNAME:AST
DTSTART:20251102T020000
TZOFFSETFROM:-0300
TZOFFSETTO:-0400
RDATE:20261101T020000
END:STANDARD
BEGIN:DAYLIGHT
TZNAME:ADT
DTSTART:20260308T020000
TZOFFSETFROM:-0400
TZOFFSETTO:-0300
RDATE:20270314T020000
END:DAYLIGHT
END:VTIMEZONE
BEGIN:VEVENT
UID:20200224T190000AST-2502lPgUtL@https://www.barringtonmunicipality.com/
DTSTAMP:20260421T171124Z
CATEGORIES:Council Meetings
DESCRIPTION:<h3>AGENDA<br />BARRINGTON MUNICIPAL COUNCIL<br />COUNCIL CHAMB
 ERS\, ADMINISTRATIVE CENTRE<br />BARRINGTON\, N.S.</h3>\n<h3>February 24\,
  2020<br />7:00 p.m.</h3>\n<p>&nbsp\;</p>\n<p>1. Moment of Silence.</p>\n<
 p>2. Additions to the Agenda.</p>\n<p>3. Approval of the Agenda.</p>\n<p>4
 . Declarations of Conflict of Interest.</p>\n<p>5. Approval of minutes of 
 the <a class='doclink docman_track_download k-ui-namespace' href='index.ph
 p?option=com_docman&amp\;view=document&amp\;alias=3459-2020-01-27-regular-
 meeting-of-council-doc-1&amp\;category_slug=2020-council-minutes&amp\;Item
 id=246' target='_blank' data-title='2020 01 27 Regular Meeting of Council 
 doc' data-id='3459' type='application/pdf' data-processed='data-processed'
 >    
<span class='k-icon-document-pdf  ' aria-hidden='true'></span>
<span c
 lass='k-visually-hidden'>pdf</span>
Regular Meeting held January 27\, 2020<
 span>(<!--
-->116 KB<!--
-->)</span>
</a>.</p>\n<p>6. <a class='doclink docma
 n_track_download k-ui-namespace' href='index.php?option=com_docman&amp\;vi
 ew=document&amp\;alias=3491-2020-02-18-physician-recruitment-1&amp\;catego
 ry_slug=2020-council-agendas&amp\;Itemid=246' target='_blank' data-title='
 2020 02 18 Physician Recruitment' data-id='3491' type='application/pdf' da
 ta-processed='data-processed'>    
<span class='k-icon-document-pdf  ' aria
 -hidden='true'></span>
<span class='k-visually-hidden'>pdf</span>
Rebecca Ca
 ssidy Rose\, Community Navigator for Physician Recruitment.<span>(<!--
-->4
 67 KB<!--
-->)</span>
</a> (7:00-7:15 p.m.).</p>\n<p>7. Matters Arising from
  Minutes: Tabled Motion Re: <a class='doclink docman_track_download k-ui-n
 amespace' href='index.php?option=com_docman&amp\;view=document&amp\;alias=
 3489-2020-01-13-letter-of-notice-commercial-bag-limit-collection-2019-4&am
 p\;category_slug=2020-council-agendas&amp\;Itemid=246' target='_blank' dat
 a-title='2020 01 13 Letter of Notice Commercial Bag Limit Collection 2019'
  data-id='3489' type='application/pdf' data-processed='data-processed'>   
  
<span class='k-icon-document-pdf  ' aria-hidden='true'></span>
<span class
 ='k-visually-hidden'>pdf</span>
Commercial Waste Collection Notice<span>(<!
 --
-->87 KB<!--
-->)</span>
</a>.</p>\n<p>8. Reports:<br />- Report of Warden
 <br />- Report of Councillors<br />- Report from <a class='doclink docman_
 track_download k-ui-namespace' href='index.php?option=com_docman&amp\;view
 =document&amp\;alias=3495-recommendation-february-2020&amp\;category_slug=
 2020-council-agendas&amp\;Itemid=246' target='_blank' data-title='RECOMMEN
 DATION February\, 2020' data-id='3495' type='application/pdf' data-process
 ed='data-processed'>    
<span class='k-icon-document-pdf  ' aria-hidden='t
 rue'></span>
<span class='k-visually-hidden'>pdf</span>
Committee of the Who
 le Council. <span>(<!--
-->15 KB<!--
-->)</span>
</a>(Councillor El-Jakl)<br 
 />- <a href='images/Staff_Report_-_February_24_2020.pdf'>Staff Report</a><
 /p>\n<p>9. New or Other Business:<br />&nbsp\; &nbsp\; &nbsp\;- Second Rea
 ding - Proposed amendments to <a class='doclink docman_track_download k-ui
 -namespace' href='index.php?option=com_docman&amp\;view=document&amp\;alia
 s=3492-by-law-no-25-tax-exemption-1&amp\;category_slug=2020-council-agenda
 s&amp\;Itemid=246' target='_blank' data-title='By law No 25 Tax Exemption'
  data-id='3492' type='application/pdf' data-processed='data-processed'>   
  
<span class='k-icon-document-pdf  ' aria-hidden='true'></span>
<span class
 ='k-visually-hidden'>pdf</span>
By-law 25 “Tax Exemption By-law”.<span>(<!-
 -
-->27 KB<!--
-->)</span>
</a> (7:30 p.m.)<br />&nbsp\; &nbsp\; &nbsp\;- Sec
 ond Reading - Proposed amendments to <a class='doclink docman_track_downlo
 ad k-ui-namespace' href='index.php?option=com_docman&amp\;view=document&am
 p\;alias=3493-by-law-no-34-commerical-activity-of-municipal-property&amp\;
 category_slug=2020-council-agendas&amp\;Itemid=246' target='_blank' data-t
 itle='By Law No 34 Commerical Activity of Municipal Property' data-id='349
 3' type='application/pdf' data-processed='data-processed'>    
<span class=
 'k-icon-document-pdf  ' aria-hidden='true'></span>
<span class='k-visually-
 hidden'>pdf</span>
By-law No. 34 “Commercial Activity on Municipal <br />&n
 bsp\; &nbsp\; &nbsp\; &nbsp\; &nbsp\; &nbsp\; Property”<span>(<!--
-->25 KB
 <!--
-->)</span>
</a>. (7:30 p.m.)<br />&nbsp\; &nbsp\; &nbsp\;- First Readi
 ng - Draft <a class='doclink docman_track_download k-ui-namespace' href='i
 ndex.php?option=com_docman&amp\;view=document&amp\;alias=3496-snow-and-ice
 -clearing-and-maintenance-by-law-1&amp\;category_slug=2020-council-agendas
 &amp\;Itemid=246' target='_blank' data-title='Snow and Ice Clearing and Ma
 intenance By law' data-id='3496' type='application/pdf' data-processed='da
 ta-processed'>    
<span class='k-icon-document-pdf  ' aria-hidden='true'><
 /span>
<span class='k-visually-hidden'>pdf</span>
“Snow and Ice Clearing and
  Maintenance By-law.<span>(<!--
-->57 KB<!--
-->)</span>
</a><br />&nbsp\; &n
 bsp\; &nbsp\;- Consideration of adoption of Draft <a class='doclink docman
 _track_download k-ui-namespace' href='index.php?option=com_docman&amp\;vie
 w=document&amp\;alias=3497-snow-and-ice-clearing-and-maintenance-policy-1&
 amp\;category_slug=2020-council-agendas&amp\;Itemid=246' target='_blank' d
 ata-title='Snow and Ice Clearing and Maintenance Policy' data-id='3497' ty
 pe='application/pdf' data-processed='data-processed'>    
<span class='k-ic
 on-document-pdf  ' aria-hidden='true'></span>
<span class='k-visually-hidde
 n'>pdf</span>
 “Snow and Ice Clearing and Maintenance Policy”.<span>(<!--
--
 >56 KB<!--
-->)</span>
</a><br />&nbsp\; &nbsp\; &nbsp\;- Consideration of a
 mendments - <a class='doclink docman_track_download k-ui-namespace' href='
 index.php?option=com_docman&amp\;view=document&amp\;alias=3494-policy-59-a
 mendments-accessibility-advisory-committee-1&amp\;category_slug=2020-counc
 il-agendas&amp\;Itemid=246' target='_blank' data-title='Policy 59 Amendmen
 ts Accessibility Advisory Committee' data-id='3494' type='application/pdf'
  data-processed='data-processed'>    
<span class='k-icon-document-pdf  ' a
 ria-hidden='true'></span>
<span class='k-visually-hidden'>pdf</span>
Policy 
 59 “Policy on Committees of Council”.<span>(<!--
-->85 KB<!--
-->)</span>
</a
 ></p>\n<p>10. Correspondence:</p>\n<p>11. Agenda Items for Future Meetings
 .</p>\n<p>12. Adjournment.</p>\n<p><br />_________________________________
 </p>\n<p>Chris Frotten\, CAO</p>
DTSTART;TZID=America/Halifax:20200224T190000
DTEND;TZID=America/Halifax:20200224T190000
SUMMARY:Council Meeting
URL:https://barringtonmunicipality.com/194-council-meetings/127-council-mee
 ting
X-ALT-DESC;FMTTYPE=TEXT/HTML:<h3>AGENDA<br />BARRINGTON MUNICIPAL COUNCIL<b
 r />COUNCIL CHAMBERS\, ADMINISTRATIVE CENTRE<br />BARRINGTON\, N.S.</h3>\n
 <h3>February 24\, 2020<br />7:00 p.m.</h3>\n<p>&nbsp\;</p>\n<p>1. Moment o
 f Silence.</p>\n<p>2. Additions to the Agenda.</p>\n<p>3. Approval of the 
 Agenda.</p>\n<p>4. Declarations of Conflict of Interest.</p>\n<p>5. Approv
 al of minutes of the <a class='doclink docman_track_download k-ui-namespac
 e' href='index.php?option=com_docman&amp\;view=document&amp\;alias=3459-20
 20-01-27-regular-meeting-of-council-doc-1&amp\;category_slug=2020-council-
 minutes&amp\;Itemid=246' target='_blank' data-title='2020 01 27 Regular Me
 eting of Council doc' data-id='3459' type='application/pdf' data-processed
 ='data-processed'>    
<span class='k-icon-document-pdf  ' aria-hidden='tru
 e'></span>
<span class='k-visually-hidden'>pdf</span>
Regular Meeting held J
 anuary 27\, 2020<span>(<!--
-->116 KB<!--
-->)</span>
</a>.</p>\n<p>6. <a cla
 ss='doclink docman_track_download k-ui-namespace' href='index.php?option=c
 om_docman&amp\;view=document&amp\;alias=3491-2020-02-18-physician-recruitm
 ent-1&amp\;category_slug=2020-council-agendas&amp\;Itemid=246' target='_bl
 ank' data-title='2020 02 18 Physician Recruitment' data-id='3491' type='ap
 plication/pdf' data-processed='data-processed'>    
<span class='k-icon-doc
 ument-pdf  ' aria-hidden='true'></span>
<span class='k-visually-hidden'>pdf
 </span>
Rebecca Cassidy Rose\, Community Navigator for Physician Recruitmen
 t.<span>(<!--
-->467 KB<!--
-->)</span>
</a> (7:00-7:15 p.m.).</p>\n<p>7. Mat
 ters Arising from Minutes: Tabled Motion Re: <a class='doclink docman_trac
 k_download k-ui-namespace' href='index.php?option=com_docman&amp\;view=doc
 ument&amp\;alias=3489-2020-01-13-letter-of-notice-commercial-bag-limit-col
 lection-2019-4&amp\;category_slug=2020-council-agendas&amp\;Itemid=246' ta
 rget='_blank' data-title='2020 01 13 Letter of Notice Commercial Bag Limit
  Collection 2019' data-id='3489' type='application/pdf' data-processed='da
 ta-processed'>    
<span class='k-icon-document-pdf  ' aria-hidden='true'><
 /span>
<span class='k-visually-hidden'>pdf</span>
Commercial Waste Collectio
 n Notice<span>(<!--
-->87 KB<!--
-->)</span>
</a>.</p>\n<p>8. Reports:<br />-
  Report of Warden<br />- Report of Councillors<br />- Report from <a class
 ='doclink docman_track_download k-ui-namespace' href='index.php?option=com
 _docman&amp\;view=document&amp\;alias=3495-recommendation-february-2020&am
 p\;category_slug=2020-council-agendas&amp\;Itemid=246' target='_blank' dat
 a-title='RECOMMENDATION February\, 2020' data-id='3495' type='application/
 pdf' data-processed='data-processed'>    
<span class='k-icon-document-pdf 
  ' aria-hidden='true'></span>
<span class='k-visually-hidden'>pdf</span>
Com
 mittee of the Whole Council. <span>(<!--
-->15 KB<!--
-->)</span>
</a>(Counci
 llor El-Jakl)<br />- <a href='images/Staff_Report_-_February_24_2020.pdf'>
 Staff Report</a></p>\n<p>9. New or Other Business:<br />&nbsp\; &nbsp\; &n
 bsp\;- Second Reading - Proposed amendments to <a class='doclink docman_tr
 ack_download k-ui-namespace' href='index.php?option=com_docman&amp\;view=d
 ocument&amp\;alias=3492-by-law-no-25-tax-exemption-1&amp\;category_slug=20
 20-council-agendas&amp\;Itemid=246' target='_blank' data-title='By law No 
 25 Tax Exemption' data-id='3492' type='application/pdf' data-processed='da
 ta-processed'>    
<span class='k-icon-document-pdf  ' aria-hidden='true'><
 /span>
<span class='k-visually-hidden'>pdf</span>
By-law 25 “Tax Exemption B
 y-law”.<span>(<!--
-->27 KB<!--
-->)</span>
</a> (7:30 p.m.)<br />&nbsp\; &nb
 sp\; &nbsp\;- Second Reading - Proposed amendments to <a class='doclink do
 cman_track_download k-ui-namespace' href='index.php?option=com_docman&amp\
 ;view=document&amp\;alias=3493-by-law-no-34-commerical-activity-of-municip
 al-property&amp\;category_slug=2020-council-agendas&amp\;Itemid=246' targe
 t='_blank' data-title='By Law No 34 Commerical Activity of Municipal Prope
 rty' data-id='3493' type='application/pdf' data-processed='data-processed'
 >    
<span class='k-icon-document-pdf  ' aria-hidden='true'></span>
<span c
 lass='k-visually-hidden'>pdf</span>
By-law No. 34 “Commercial Activity on M
 unicipal <br />&nbsp\; &nbsp\; &nbsp\; &nbsp\; &nbsp\; &nbsp\; Property”<s
 pan>(<!--
-->25 KB<!--
-->)</span>
</a>. (7:30 p.m.)<br />&nbsp\; &nbsp\; &nb
 sp\;- First Reading - Draft <a class='doclink docman_track_download k-ui-n
 amespace' href='index.php?option=com_docman&amp\;view=document&amp\;alias=
 3496-snow-and-ice-clearing-and-maintenance-by-law-1&amp\;category_slug=202
 0-council-agendas&amp\;Itemid=246' target='_blank' data-title='Snow and Ic
 e Clearing and Maintenance By law' data-id='3496' type='application/pdf' d
 ata-processed='data-processed'>    
<span class='k-icon-document-pdf  ' ari
 a-hidden='true'></span>
<span class='k-visually-hidden'>pdf</span>
“Snow and
  Ice Clearing and Maintenance By-law.<span>(<!--
-->57 KB<!--
-->)</span>
</a
 ><br />&nbsp\; &nbsp\; &nbsp\;- Consideration of adoption of Draft <a clas
 s='doclink docman_track_download k-ui-namespace' href='index.php?option=co
 m_docman&amp\;view=document&amp\;alias=3497-snow-and-ice-clearing-and-main
 tenance-policy-1&amp\;category_slug=2020-council-agendas&amp\;Itemid=246' 
 target='_blank' data-title='Snow and Ice Clearing and Maintenance Policy' 
 data-id='3497' type='application/pdf' data-processed='data-processed'>    
 
<span class='k-icon-document-pdf  ' aria-hidden='true'></span>
<span class=
 'k-visually-hidden'>pdf</span>
 “Snow and Ice Clearing and Maintenance Poli
 cy”.<span>(<!--
-->56 KB<!--
-->)</span>
</a><br />&nbsp\; &nbsp\; &nbsp\;- C
 onsideration of amendments - <a class='doclink docman_track_download k-ui-
 namespace' href='index.php?option=com_docman&amp\;view=document&amp\;alias
 =3494-policy-59-amendments-accessibility-advisory-committee-1&amp\;categor
 y_slug=2020-council-agendas&amp\;Itemid=246' target='_blank' data-title='P
 olicy 59 Amendments Accessibility Advisory Committee' data-id='3494' type=
 'application/pdf' data-processed='data-processed'>    
<span class='k-icon-
 document-pdf  ' aria-hidden='true'></span>
<span class='k-visually-hidden'>
 pdf</span>
Policy 59 “Policy on Committees of Council”.<span>(<!--
-->85 KB<
 !--
-->)</span>
</a></p>\n<p>10. Correspondence:</p>\n<p>11. Agenda Items fo
 r Future Meetings.</p>\n<p>12. Adjournment.</p>\n<p><br />________________
 _________________</p>\n<p>Chris Frotten\, CAO</p>
END:VEVENT
END:VCALENDAR
