BEGIN:VCALENDAR
VERSION:2.0
PRODID:-//https://barringtonmunicipality.com//NONSGML kigkonsult.se iCalcre
 ator 2.29.29//
CALSCALE:GREGORIAN
METHOD:PUBLISH
UID:619128a1-bbc4-4689-95d6-e835a48d9769
X-WR-CALNAME:JCal Pro Calendar
X-WR-CALDESC:Your online events calendar
X-WR-TIMEZONE:America/Halifax
BEGIN:VTIMEZONE
TZID:America/Halifax
BEGIN:STANDARD
TZNAME:AST
DTSTART:20251102T020000
TZOFFSETFROM:-0300
TZOFFSETTO:-0400
RDATE:20261101T020000
END:STANDARD
BEGIN:DAYLIGHT
TZNAME:ADT
DTSTART:20260308T020000
TZOFFSETFROM:-0400
TZOFFSETTO:-0300
RDATE:20270314T020000
END:DAYLIGHT
END:VTIMEZONE
BEGIN:VEVENT
UID:20190909T190000ADT-5983ju4Pu1@http://barrington.mwvdev.info/
DTSTAMP:20260421T103901Z
CATEGORIES:Committee of the Whole Meetings
DESCRIPTION:<h3>AGENDA<br />COMMITTEE OF THE WHOLE<br />Conference Room<br 
 />September 9\, 2019</h3>\n<p>7:00 p.m.</p>\n<ol>\n<li>Additions to the Ag
 enda.</li>\n<li>Approval of Agenda.</li>\n<li>Approval of minutes of the C
 ommittee of the Whole Council Meeting held <a class='doclink docman_track_
 download k-ui-namespace' href='index.php?option=com_docman&amp\;view=docum
 ent&amp\;alias=3124-2019-08-19-committee-of-the-whole-council&amp\;categor
 y_slug=2019-committee-of-the-whole-meetings&amp\;Itemid=246' target='_blan
 k' data-title='2019 08 19 Committee of the Whole Council' data-id='3124' t
 ype='application/pdf' data-processed='data-processed'>    
<span class='k-i
 con-document-pdf  ' aria-hidden='true'></span>
<span class='k-visually-hidd
 en'>pdf</span>
August 19\, 2019.<span>(<!--
-->119 KB<!--
-->)</span>
</a></li
 >\n<li>Monitoring Service at the Floating Dock - McGray Avenue.</li>\n<li>
 Draft Policy Amendments:\n<ul>\n<li><a class='doclink' href='index.php?opt
 ion=com_docman&amp\;view=document&amp\;alias=3127-no-68-public-participati
 on-program&amp\;category_slug=policies&amp\;Itemid=246' target='_blank'>Pu
 blic Participation Policy</a></li>\n</ul>\n</li>\n<li>&nbsp\;<a class='doc
 link docman_track_download k-ui-namespace' href='index.php?option=com_docm
 an&amp\;view=document&amp\;alias=3126-09-09-2019-nature-trust&amp\;categor
 y_slug=2019-committee-of-the-whole-agendas&amp\;Itemid=246' target='_blank
 ' data-title='09 09 2019 nature trust' data-id='3126' type='application/pd
 f' data-processed='data-processed'>    
<span class='k-icon-document-pdf  '
  aria-hidden='true'></span>
<span class='k-visually-hidden'>pdf</span>
NS Na
 ture Trust Request Re: Swaine’s Road Bog<span>(<!--
-->2.12 MB<!--
-->)</spa
 n>
</a>.</li>\n<li>&nbsp\;<a class='doclink docman_track_download k-ui-name
 space' href='index.php?option=com_docman&amp\;view=document&amp\;alias=312
 5-09-09-2019-baccaro&amp\;category_slug=2019-committee-of-the-whole-agenda
 s&amp\;Itemid=246' target='_blank' data-title='09 09 2019 baccaro' data-id
 ='3125' type='application/pdf' data-processed='data-processed'>    
<span c
 lass='k-icon-document-pdf  ' aria-hidden='true'></span>
<span class='k-visu
 ally-hidden'>pdf</span>
Request for WWII Memorial at the Baccaro Lighthouse
  Rest Stop.<span>(<!--
-->35 KB<!--
-->)</span>
</a></li>\n<li>Tender Re: Exc
 avator Lease.</li>\n<li>Set Dates for December Meetings.</li>\n<li>Adjourn
 ment.</li>\n</ol>
DTSTART;TZID=America/Halifax:20190909T190000
DTEND;TZID=America/Halifax:20190909T190000
SUMMARY:Committee of the Whole Council Meeting
URL:https://barringtonmunicipality.com/193-committee-of-the-whole-meetings/
 48-committee-of-the-whole-council-meeting
X-ALT-DESC;FMTTYPE=TEXT/HTML:<h3>AGENDA<br />COMMITTEE OF THE WHOLE<br />Co
 nference Room<br />September 9\, 2019</h3>\n<p>7:00 p.m.</p>\n<ol>\n<li>Ad
 ditions to the Agenda.</li>\n<li>Approval of Agenda.</li>\n<li>Approval of
  minutes of the Committee of the Whole Council Meeting held <a class='docl
 ink docman_track_download k-ui-namespace' href='index.php?option=com_docma
 n&amp\;view=document&amp\;alias=3124-2019-08-19-committee-of-the-whole-cou
 ncil&amp\;category_slug=2019-committee-of-the-whole-meetings&amp\;Itemid=2
 46' target='_blank' data-title='2019 08 19 Committee of the Whole Council'
  data-id='3124' type='application/pdf' data-processed='data-processed'>   
  
<span class='k-icon-document-pdf  ' aria-hidden='true'></span>
<span class
 ='k-visually-hidden'>pdf</span>
August 19\, 2019.<span>(<!--
-->119 KB<!--
--
 >)</span>
</a></li>\n<li>Monitoring Service at the Floating Dock - McGray A
 venue.</li>\n<li>Draft Policy Amendments:\n<ul>\n<li><a class='doclink' hr
 ef='index.php?option=com_docman&amp\;view=document&amp\;alias=3127-no-68-p
 ublic-participation-program&amp\;category_slug=policies&amp\;Itemid=246' t
 arget='_blank'>Public Participation Policy</a></li>\n</ul>\n</li>\n<li>&nb
 sp\;<a class='doclink docman_track_download k-ui-namespace' href='index.ph
 p?option=com_docman&amp\;view=document&amp\;alias=3126-09-09-2019-nature-t
 rust&amp\;category_slug=2019-committee-of-the-whole-agendas&amp\;Itemid=24
 6' target='_blank' data-title='09 09 2019 nature trust' data-id='3126' typ
 e='application/pdf' data-processed='data-processed'>    
<span class='k-ico
 n-document-pdf  ' aria-hidden='true'></span>
<span class='k-visually-hidden
 '>pdf</span>
NS Nature Trust Request Re: Swaine’s Road Bog<span>(<!--
-->2.1
 2 MB<!--
-->)</span>
</a>.</li>\n<li>&nbsp\;<a class='doclink docman_track_d
 ownload k-ui-namespace' href='index.php?option=com_docman&amp\;view=docume
 nt&amp\;alias=3125-09-09-2019-baccaro&amp\;category_slug=2019-committee-of
 -the-whole-agendas&amp\;Itemid=246' target='_blank' data-title='09 09 2019
  baccaro' data-id='3125' type='application/pdf' data-processed='data-proce
 ssed'>    
<span class='k-icon-document-pdf  ' aria-hidden='true'></span>
<s
 pan class='k-visually-hidden'>pdf</span>
Request for WWII Memorial at the B
 accaro Lighthouse Rest Stop.<span>(<!--
-->35 KB<!--
-->)</span>
</a></li>\n<
 li>Tender Re: Excavator Lease.</li>\n<li>Set Dates for December Meetings.<
 /li>\n<li>Adjournment.</li>\n</ol>
END:VEVENT
END:VCALENDAR
